BEGIN:VCALENDAR
VERSION:2.0
PRODID:-//VAIN GLORY - ECPv6.15.12.2//NONSGML v1.0//EN
CALSCALE:GREGORIAN
METHOD:PUBLISH
X-WR-CALNAME:VAIN GLORY
X-ORIGINAL-URL:https://wearevainglory.com
X-WR-CALDESC:Évènements pour VAIN GLORY
REFRESH-INTERVAL;VALUE=DURATION:PT1H
X-Robots-Tag:noindex
X-PUBLISHED-TTL:PT1H
BEGIN:VTIMEZONE
TZID:Europe/Paris
BEGIN:DAYLIGHT
TZOFFSETFROM:+0100
TZOFFSETTO:+0200
TZNAME:CEST
DTSTART:20250330T010000
END:DAYLIGHT
BEGIN:STANDARD
TZOFFSETFROM:+0200
TZOFFSETTO:+0100
TZNAME:CET
DTSTART:20251026T010000
END:STANDARD
BEGIN:DAYLIGHT
TZOFFSETFROM:+0100
TZOFFSETTO:+0200
TZNAME:CEST
DTSTART:20260329T010000
END:DAYLIGHT
BEGIN:STANDARD
TZOFFSETFROM:+0200
TZOFFSETTO:+0100
TZNAME:CET
DTSTART:20261025T010000
END:STANDARD
BEGIN:DAYLIGHT
TZOFFSETFROM:+0100
TZOFFSETTO:+0200
TZNAME:CEST
DTSTART:20270328T010000
END:DAYLIGHT
BEGIN:STANDARD
TZOFFSETFROM:+0200
TZOFFSETTO:+0100
TZNAME:CET
DTSTART:20271031T010000
END:STANDARD
END:VTIMEZONE
BEGIN:VEVENT
DTSTART;TZID=Europe/Paris:20260313T193000
DTEND;TZID=Europe/Paris:20260313T213000
DTSTAMP:20260419T140322
CREATED:20260208T201008Z
LAST-MODIFIED:20260208T201343Z
UID:157-1773430200-1773437400@wearevainglory.com
SUMMARY:MEDIEVAL ROCK N'EAT #5
DESCRIPTION:On se retrouve le vendredi 13 mars dans un lieu mythique de la scène lyonnaise : le Rock N’Eat ! \nVain Glory ouvrira les hostilités pour cette 5ème édition de la MEDIEVAL ROCK N’EAT ou seront présents également ORKHYS ET SPIRIT WAR ! On vous attend nombreux 🤘
URL:https://wearevainglory.com/index.php/agenda/medieval-rock-neat-5/
END:VEVENT
BEGIN:VEVENT
DTSTART;TZID=Europe/Paris:20260117T193000
DTEND;TZID=Europe/Paris:20260117T213000
DTSTAMP:20260419T140322
CREATED:20251208T230754Z
LAST-MODIFIED:20251208T232055Z
UID:126-1768678200-1768685400@wearevainglory.com
SUMMARY:VAIN GLORY À LA BOULANGERIE DU PRADO
DESCRIPTION:Retrouvez VAIN GLORY pour sa première date de 2026 !\nDirection la Boulangerie du Prado dans le 7ème arrondissement de Lyon où nous partagerons la scène avec les Flaming Otters le samedi 17 janvier 2026 pour un line-up énergique et plein de puissance !
URL:https://wearevainglory.com/index.php/agenda/vain-glory-a-la-boulangerie-du-prado/
LOCATION:La Boulangerie du Prado\, 69 Rue Sébastien Gryphe\, Lyon\, Rhône\, 69007\, France
ORGANIZER;CN="VAIN GLORY":MAILTO:info.vainglory@gmail.com
END:VEVENT
END:VCALENDAR